BEGIN:VCALENDAR
VERSION:2.0
PRODID:-//Advanced Value Chain Institute - ECPv6.15.20//NONSGML v1.0//EN
CALSCALE:GREGORIAN
METHOD:PUBLISH
X-WR-CALNAME:Advanced Value Chain Institute
X-ORIGINAL-URL:https://avaluechain.com
X-WR-CALDESC:Eventos para Advanced Value Chain Institute
REFRESH-INTERVAL;VALUE=DURATION:PT1H
X-Robots-Tag:noindex
X-PUBLISHED-TTL:PT1H
BEGIN:VTIMEZONE
TZID:America/Monterrey
BEGIN:STANDARD
TZOFFSETFROM:-0600
TZOFFSETTO:-0600
TZNAME:CST
DTSTART:20250101T000000
END:STANDARD
END:VTIMEZONE
BEGIN:VEVENT
DTSTART;TZID=America/Monterrey:20260321T080000
DTEND;TZID=America/Monterrey:20260321T080000
DTSTAMP:20260420T010317
CREATED:20240305T012402Z
LAST-MODIFIED:20260222T181821Z
UID:2045-1774080000-1774080000@avaluechain.com
SUMMARY:ASCM CTSC -  Certified in Transformation for Supply Chain
DESCRIPTION:
URL:https://avaluechain.com/event/certified-in-transformation-of-the-supply-chain-ctsc-2
LOCATION:Club Ejecutivo\, Río Danubio 395-B-Ote.\, Del Valle\, San Pedro Garza García\, Nuevo León\, 66220\, Mexico
CATEGORIES:Cursos
ATTACH;FMTTYPE=image/jpeg:https://avaluechain.com/wp-content/uploads/2024/03/Learning.jpeg
ORGANIZER;CN="Fabiola Ben%C3%ADtez":MAILTO:administracion@avaluechain.com
END:VEVENT
END:VCALENDAR